BEGIN:VCALENDAR
VERSION:2.0
PRODID:-//Desi Rover - ECPv6.15.20//NONSGML v1.0//EN
CALSCALE:GREGORIAN
METHOD:PUBLISH
X-ORIGINAL-URL:https://desirover.com
X-WR-CALDESC:Events for Desi Rover
REFRESH-INTERVAL;VALUE=DURATION:PT1H
X-Robots-Tag:noindex
X-PUBLISHED-TTL:PT1H
BEGIN:VTIMEZONE
TZID:Asia/Kolkata
BEGIN:STANDARD
TZOFFSETFROM:+0530
TZOFFSETTO:+0530
TZNAME:IST
DTSTART:20240101T000000
END:STANDARD
END:VTIMEZONE
BEGIN:VEVENT
DTSTART;TZID=Asia/Kolkata:20250705T080000
DTEND;TZID=Asia/Kolkata:20250712T170000
DTSTAMP:20260426T055651
CREATED:20250405T050426Z
LAST-MODIFIED:20250405T050602Z
UID:11584-1751702400-1752339600@desirover.com
SUMMARY:Spiti Valley Expedition 2025 – The Ultimate Himalayan Drive!
DESCRIPTION:5th – 12th July 2025 | Chandigarh to Chandigarh | Presented by Roy Cruiser \nReady to conquer the Himalayas?Join us for an epic 8-day offbeat road trip across the surreal landscapes of Spiti Valley! From the bustling lanes of Shimla to the last village of Chitkul\, from the turquoise Chandratal Lake to the sky-high Chicham Bridge\, this expedition is packed with jaw-dropping moments and untamed beauty.Choose to self-drive or relax in a chauffeured Innova. Enjoy curated stays in cozy mountain lodges\, hearty meals\, full backup support\, medical facilities\, and the thrill of driving through the world’s most stunning terrains.Adventure. Culture. Nature. – It’s all waiting for you in Spiti! \n👉 Limited seats. Gear up for the drive of a lifetime! \n \nShare this:Share\n				Share on Facebook (Opens in new window)\n				Facebook\n			\n				Share on X (Opens in new window)\n				X\n			\n				Email a link to a friend (Opens in new window)\n				Email\n			\n				Share on LinkedIn (Opens in new window)\n				LinkedIn\n			\n				Share on Pinterest (Opens in new window)\n				Pinterest\n			\n				Share on Telegram (Opens in new window)\n				Telegram\n			\n				Share on Threads (Opens in new window)\n				Threads\n			\n				Share on WhatsApp (Opens in new window)\n				WhatsApp\n			Like this:Like Loading...
URL:https://desirover.com/event/spiti-valley-expedition-2025-the-ultimate-himalayan-drive/
CATEGORIES:Road Trip
ATTACH;FMTTYPE=image/jpeg:https://desirover.com/wp-content/uploads/2025/04/RCSV.jpg
ORGANIZER;CN="Roy Cruiser":MAILTO:contact@roycruiser.com
END:VEVENT
END:VCALENDAR