BEGIN:VCALENDAR
VERSION:2.0
PRODID:-//Desi Rover - ECPv6.15.20//NONSGML v1.0//EN
CALSCALE:GREGORIAN
METHOD:PUBLISH
X-WR-CALNAME:Desi Rover
X-ORIGINAL-URL:https://desirover.com
X-WR-CALDESC:Events for Desi Rover
REFRESH-INTERVAL;VALUE=DURATION:PT1H
X-Robots-Tag:noindex
X-PUBLISHED-TTL:PT1H
BEGIN:VTIMEZONE
TZID:Asia/Kolkata
BEGIN:STANDARD
TZOFFSETFROM:+0530
TZOFFSETTO:+0530
TZNAME:IST
DTSTART:20240101T000000
END:STANDARD
END:VTIMEZONE
BEGIN:VEVENT
DTSTART;VALUE=DATE:20250823
DTEND;VALUE=DATE:20250926
DTSTAMP:20260423T060215
CREATED:20250617T112015Z
LAST-MODIFIED:20250617T112015Z
UID:29616-1755907200-1758844799@desirover.com
SUMMARY:Simply Singapore
DESCRIPTION:Step into the future with a journey through the dazzling city-state of Singapore.Experience the iconic Marina Bay Sands\, with its skyline views and infinity pool.Explore the magical world of Gardens by the Bay\, home to the Supertree Grove.Stroll through the vibrant Chinatown\, colorful Little India\, and modern Orchard Road.Enjoy a river cruise along Clarke Quay and savor global cuisines at hawker centers.Get thrilled at Universal Studios Singapore on Sentosa Island.Witness marine wonders at S.E.A. Aquarium and adventure at Adventure Cove Waterpark.Catch the Wings of Time show — a stunning mix of water\, lights\, and music.Visit Merlion Park\, the symbolic heart of Singapore’s national identity.Discover cultural heritage at Kampong Glam and the Sultan Mosque.Take in panoramic views from the Singapore Flyer.Shop\, dine\, and chill at the Jewel Changi Airport\, featuring the world’s tallest indoor waterfall.This vibrant urban escape combines world-class attractions with rich cultural diversity. \nAbout the Trip \nDiscover the best of Singapore in a perfectly balanced itinerary covering nature\, city life\, and cultural sites. Ideal for families\, couples\, and solo travelers looking for a fun and safe international escape. \nDuration \n5 Days / 4 Nights \nTrip Cost \nINR 58\,300/- Per Person(Excluding 5% GST & 5% or 20% TCS. EMI Option Available) \nTrip Style \nCity Exploration | Family-Friendly | Luxury Optional | Semi-Guided \nVehicle \nPrivate AC Coach / Shuttle VanAirport Transfers + Intercity Travel Included \nDriving Distance \n100 km total local travel (Singapore is a compact city-state) \nLandscapes \nUrban skylines \nRainforest parks \nCoastal waterfronts \nFuturistic gardens and domes \nActivities \nTheme Parks (Universal Studios) \nGarden Tours (Botanic Gardens\, Flower Dome) \nCultural Trails (Little India\, Chinatown) \nRiver Cruise\, Observation Decks\, Night Safari \nLight Shows & Shopping Excursions \nUpcoming Dates \nJuly 01 – July 04\, 2025 \nAugust 23– August 31\, 2025 \nSeptember 01 – September 25\, 2025 \nPrivate group departures available on request \nShare this:Share\n				Share on Facebook (Opens in new window)\n				Facebook\n			\n				Share on X (Opens in new window)\n				X\n			\n				Email a link to a friend (Opens in new window)\n				Email\n			\n				Share on LinkedIn (Opens in new window)\n				LinkedIn\n			\n				Share on Pinterest (Opens in new window)\n				Pinterest\n			\n				Share on Telegram (Opens in new window)\n				Telegram\n			\n				Share on Threads (Opens in new window)\n				Threads\n			\n				Share on WhatsApp (Opens in new window)\n				WhatsApp\n			Like this:Like Loading...
URL:https://desirover.com/event/simply-singapore/
LOCATION:Simply Singapore\, 12 Orchard Gateway\, Orchard Road\, Singapore\, Central Singapore\, 238851\, Singapore
CATEGORIES:Adventure Travel,Cultural & Nature Exploration,Cultural & Spiritual Experience,Group Travel Experience,Road Trip,Tours
ATTACH;FMTTYPE=image/jpeg:https://desirover.com/wp-content/uploads/2025/06/74350c3a657c27f493db694569ed6bd1.jpg
END:VEVENT
END:VCALENDAR