BEGIN:VCALENDAR
VERSION:2.0
PRODID:-//Desi Rover - ECPv6.15.20//NONSGML v1.0//EN
CALSCALE:GREGORIAN
METHOD:PUBLISH
X-WR-CALNAME:Desi Rover
X-ORIGINAL-URL:https://desirover.com
X-WR-CALDESC:Events for Desi Rover
REFRESH-INTERVAL;VALUE=DURATION:PT1H
X-Robots-Tag:noindex
X-PUBLISHED-TTL:PT1H
BEGIN:VTIMEZONE
TZID:Asia/Kolkata
BEGIN:STANDARD
TZOFFSETFROM:+0530
TZOFFSETTO:+0530
TZNAME:IST
DTSTART:20240101T000000
END:STANDARD
END:VTIMEZONE
BEGIN:VEVENT
DTSTART;VALUE=DATE:20250719
DTEND;VALUE=DATE:20250720
DTSTAMP:20260421T032440
CREATED:20250618T091819Z
LAST-MODIFIED:20250618T091846Z
UID:29837-1752883200-1752969599@desirover.com
SUMMARY:Kerala - Buy 1 Get 1 Free
DESCRIPTION:Embark on an unforgettable journey to “God’s Own Country” with this exclusive Buy 1 Get 1 Free Kerala package! Cruise through serene backwaters in a houseboat\, unwind on golden beaches\, and explore lush green tea estates. Rejuvenate at Ayurvedic spas and witness vibrant local traditions.Marvel at the cascading waterfalls\, wildlife sanctuaries\, and historic temples. Stroll through spice plantations and enjoy authentic Kerala cuisine. Experience the charm of Alleppey\, Munnar\, Thekkady\, and Kochi.Perfect for couples\, families\, or solo travelers\, this trip blends nature\, culture\, and relaxation.Limited-time offer with premium stays and seamless logistics.Ideal for a refreshing break from city life.Enjoy scenic hill stations and palm-lined coasts.Savor local seafood and warm hospitality.Photogenic landscapes and peaceful environments.Handpicked resorts and expert guides included.Great value with double the joy—pay for one\, travel for two!Don’t miss this Kerala escape with unmatched perks.Seats filling fast—reserve now for a serene adventure.Best time to visit is post-monsoon\, from September to March. \nDuration:\n6 Days / 5 Nights \nTrip Cost:\nINR 41\,990/- Per Person\n(Excluding 5% GST & 5% Or 20% TCS\, EMI Option Available) \nTrip Style:\n Scenic\, Cultural\, and Wellness Tour \nVehicle:\nAC Traveler / Sedan / SUV (Depending on Group Size) \nDriving Distance:\n~600–800 km overall \nLandscapes:\nBackwaters\, Hills\, Forests\, Beaches \nActivities:\nHouseboat Cruise\, Tea Garden Visit\, Kathakali Show\, Elephant Safari\, Ayurvedic Massage \nUpcoming Dates:\nJuly 19\, 2025\nAugust 2\, 9\, 15\, 2025\nSeptember 6\,13\, 2025 \nShare this:Share\n				Share on Facebook (Opens in new window)\n				Facebook\n			\n				Share on X (Opens in new window)\n				X\n			\n				Email a link to a friend (Opens in new window)\n				Email\n			\n				Share on LinkedIn (Opens in new window)\n				LinkedIn\n			\n				Share on Pinterest (Opens in new window)\n				Pinterest\n			\n				Share on Telegram (Opens in new window)\n				Telegram\n			\n				Share on Threads (Opens in new window)\n				Threads\n			\n				Share on WhatsApp (Opens in new window)\n				WhatsApp\n			Like this:Like Loading...
URL:https://desirover.com/event/kerala-buy-1-get-1-free/
LOCATION:Kerala – Buy 1 Get 1 Free\, MG Road\, Ernakulam\, Kochi\, Kerala\, 682011\, India
CATEGORIES:Adventure Travel,Cultural & Nature Exploration,Cultural & Spiritual Experience,Group Travel Experience,Nature & Wildlife Exploration,Road Trip,Self-Drive Experiences,Senior-Friendly Adventure,Tours
ATTACH;FMTTYPE=image/jpeg:https://desirover.com/wp-content/uploads/2025/06/44a26d8a3d91ba856555069957233489.jpg
END:VEVENT
END:VCALENDAR