BEGIN:VCALENDAR
VERSION:2.0
PRODID:-//Desi Rover - ECPv6.15.20//NONSGML v1.0//EN
CALSCALE:GREGORIAN
METHOD:PUBLISH
X-ORIGINAL-URL:https://desirover.com
X-WR-CALDESC:Events for Desi Rover
REFRESH-INTERVAL;VALUE=DURATION:PT1H
X-Robots-Tag:noindex
X-PUBLISHED-TTL:PT1H
BEGIN:VTIMEZONE
TZID:Asia/Kolkata
BEGIN:STANDARD
TZOFFSETFROM:+0530
TZOFFSETTO:+0530
TZNAME:IST
DTSTART:20240101T000000
END:STANDARD
END:VTIMEZONE
BEGIN:VEVENT
DTSTART;VALUE=DATE:20250927
DTEND;VALUE=DATE:20250929
DTSTAMP:20260420T020844
CREATED:20250618T100134Z
LAST-MODIFIED:20250618T100157Z
UID:29846-1758931200-1759103999@desirover.com
SUMMARY:North Goa and South Goa with Air
DESCRIPTION:North Goa and South Goa with Air – Tropical Beach Escape\nExplore the vibrant charm of North Goa and the serene beauty of South Goa in one unforgettable trip with flights includedFeel the buzz of Baga and Calangute beaches with vibrant nightlife flea markets and beach shacksDiscover the Portuguese influence in Old Goa with its majestic churches and historical landmarksRelax in the peaceful ambiance of Palolem and Colva beaches away from the crowdsIndulge in authentic Goan cuisine with flavors of spice coconut and seafoodCruise along the Mondovi River while enjoying cultural music and dance performancesVisit iconic forts like Aguada and Chapora for panoramic views of the Arabian SeaUnwind with water sports banana rides parasailing and jet skiing on turquoise watersShop for souvenirs shells and handicrafts at bustling local marketsPerfect for families friends or couples looking for a tropical escape filled with fun and culture \nDuration:\n5 Days / 4 Nights \nTrip Cost:\nINR 58\, 990/- Per Person (Excluding 5% GST & 5% Or 20% TCS\, EMI Option Available) \nTrip Style:\nLeisure\, Beach & Culture \nVehicle:\nAC Coach / Sedan with Flight Transfers (Ex-Delhi/Mumbai/Chennai) \nDriving Distance:\n~250 km across North and South Goa \nLandscapes:\nBeaches\, Rivers\, Heritage Sites\, Coconut Groves \nActivities:\nBeach Hopping\, Water Sports\, River Cruise\, Fort Visits\, Night Markets \nUpcoming Dates:\nSeptember 27\, 28\, 2025 \nShare this:Share\n				Share on Facebook (Opens in new window)\n				Facebook\n			\n				Share on X (Opens in new window)\n				X\n			\n				Email a link to a friend (Opens in new window)\n				Email\n			\n				Share on LinkedIn (Opens in new window)\n				LinkedIn\n			\n				Share on Pinterest (Opens in new window)\n				Pinterest\n			\n				Share on Telegram (Opens in new window)\n				Telegram\n			\n				Share on Threads (Opens in new window)\n				Threads\n			\n				Share on WhatsApp (Opens in new window)\n				WhatsApp\n			Like this:Like Loading...
URL:https://desirover.com/event/north-goa-and-south-goa-with-air/
LOCATION:North Goa and South Goa with Air\, Opp. Goa Tourism Office\, Panaji\, Panaji\, Goa\, 403001\, India
CATEGORIES:Adventure Travel,Cultural & Nature Exploration,Cultural & Spiritual Experience,Group Travel Experience,Nature & Wildlife Exploration,Road Trip,Self-Drive Experiences,Senior Citizen Travel,Senior-Friendly Adventure,Tours
ATTACH;FMTTYPE=image/jpeg:https://desirover.com/wp-content/uploads/2025/06/4427df82d0c2c6d0fbcb7085c8fd8cf2.jpg
END:VEVENT
END:VCALENDAR