BEGIN:VCALENDAR
VERSION:2.0
PRODID:-//Desi Rover - ECPv6.15.20//NONSGML v1.0//EN
CALSCALE:GREGORIAN
METHOD:PUBLISH
X-WR-CALNAME:Desi Rover
X-ORIGINAL-URL:https://desirover.com
X-WR-CALDESC:Events for Desi Rover
REFRESH-INTERVAL;VALUE=DURATION:PT1H
X-Robots-Tag:noindex
X-PUBLISHED-TTL:PT1H
BEGIN:VTIMEZONE
TZID:Asia/Kolkata
BEGIN:STANDARD
TZOFFSETFROM:+0530
TZOFFSETTO:+0530
TZNAME:IST
DTSTART:20240101T000000
END:STANDARD
END:VTIMEZONE
BEGIN:VEVENT
DTSTART;VALUE=DATE:20250625
DTEND;VALUE=DATE:20250926
DTSTAMP:20260421T215922
CREATED:20250618T115647Z
LAST-MODIFIED:20250618T115657Z
UID:29868-1750809600-1758844799@desirover.com
SUMMARY:Marvellous Dubai With Abu Dhabi
DESCRIPTION:Marvellous Dubai With Abu Dhabi\nDiscover the dazzling wonders of Dubai and Abu Dhabi with a journey that blends futuristic skylines with rich Arabian heritageMarvel at the Burj Khalifa’s towering views and glide across Dubai Marina on a luxurious cruiseExplore traditional souks bustling malls and dine at world-class restaurantsVenture into the golden desert for dune bashing camel rides and sunset BBQ dinners under the starsExperience thrilling adventures at Ferrari World and Warner Bros in Abu DhabiCapture stunning moments at the Sheikh Zayed Grand Mosque a marvel of Islamic architectureShop at the Dubai Mall visit the Dubai Frame and enjoy spectacular fountain showsEnjoy smooth transfers private sightseeing and premium accommodation throughout your tripPerfect for families honeymooners and anyone looking to blend luxury with excitementThis unforgettable escape is your gateway to the Arabian dream \nDuration:\n7 Days / 6 Nights \nTrip Cost:\nINR 1\,1\,985/-\nPer Person (Including 5% GST & 5% Or 20% TCS\, EMI Option Available) \nTrip Style:\nCity Luxury\, Adventure & Cultural Tour \nVehicle:\nPrivate AC Coach / Transfers with English-speaking Guide \nDriving Distance: ~\n400 km across Dubai and Abu Dhabi \nLandscapes:\nCityscapes\, Desert Dunes\, Coastlines\, Cultural Monuments \nActivities:\nDesert Safari\, City Tours\, Theme Parks\, Shopping\, Marina Cruise \nUpcoming Dates:\nJune 25 – September 31\, 2025 \nShare this:Share\n				Share on Facebook (Opens in new window)\n				Facebook\n			\n				Share on X (Opens in new window)\n				X\n			\n				Email a link to a friend (Opens in new window)\n				Email\n			\n				Share on LinkedIn (Opens in new window)\n				LinkedIn\n			\n				Share on Pinterest (Opens in new window)\n				Pinterest\n			\n				Share on Telegram (Opens in new window)\n				Telegram\n			\n				Share on Threads (Opens in new window)\n				Threads\n			\n				Share on WhatsApp (Opens in new window)\n				WhatsApp\n			Like this:Like Loading...
URL:https://desirover.com/event/marvellous-dubai-with-abu-dhabi/
LOCATION:Marvellous Dubai With Abu Dhabi\, Al Barsha 1\, Near Mall of the Emirates\, Dubai\, Dubai\, 00000\, United Arab Emirates
CATEGORIES:Adventure Travel,Cultural & Nature Exploration,Group Travel Experience,Road Trip,Tours
ATTACH;FMTTYPE=image/jpeg:https://desirover.com/wp-content/uploads/2025/06/d24303c957954f8993d621eaa183ee27.jpg
END:VEVENT
BEGIN:VEVENT
DTSTART;VALUE=DATE:20250624
DTEND;VALUE=DATE:20250701
DTSTAMP:20260421T215922
CREATED:20250617T092724Z
LAST-MODIFIED:20250617T093605Z
UID:29597-1750723200-1751327999@desirover.com
SUMMARY:Beautiful Thailand
DESCRIPTION:Discover the vibrant charm of Beautiful Thailand\, where tradition meets tropical bliss.Begin your journey in Bangkok\, the dynamic capital filled with golden temples and bustling markets.Marvel at the majestic Grand Palace and the sacred Wat Arun by the riverside.Experience local flavors at floating markets and lively night bazaars.Head to Pattaya for sun-soaked beaches\, water sports\, and exciting nightlife.Visit the serene Coral Island\, perfect for relaxation and snorkeling.Explore the cultural richness of Chiang Mai with its ancient temples and lush mountains.Indulge in a traditional Thai massage and sample authentic street food.Cruise through the Chao Phraya River as the city lights dazzle around you.Visit Ayutthaya\, the historic kingdom filled with ruins and heritage.Enjoy elephant encounters and jungle adventures in the northern highlands.Shop for souvenirs\, silk\, and spices in local street markets.Thailand’s warm hospitality and diverse experiences make every moment unforgettable. \nAbout the Trip \nExperience the vibrant culture\, stunning beaches\, spiritual temples\, and exciting nightlife of Thailand. From the bustling streets of Bangkok to the relaxing shores of Pattaya and the charm of northern Thailand\, this tour offers a perfect blend of relaxation\, exploration\, and adventure. \nDuration \n5 Days / 4 Nights \nTrip Cost \nINR 26\,300/- Per Person(Excluding 5% GST & 5% or 20% TCS\, EMI Option Available) \nTrip Style \nLeisure | Cultural | Adventure | Guided Group Tour \nVehicle \nPrivate AC Coach / Van (depending on group size)Airport & intercity transfers included \nDriving Distance \nApprox. 200–250 km of local travel during the trip (Bangkok to Pattaya: ~150 km) \nLandscapes \nTropical beaches \nLush green countrys \nVibrant cityscapes \nAncient temples & historic ruins \nActivities \nTemple visits & cultural sightseeing \nCoral Island beach day \nWater sports & adventure options \nThai massage & cooking experiences \nNight market shopping & shows \nUpcoming Dates \nJuly 20 – July 26\, 2025 \nAugust 10 – August 16\, 2025 \nSeptember 14 – September 20\, 2025 \nCustom dates available for private groups \nShare this:Share\n				Share on Facebook (Opens in new window)\n				Facebook\n			\n				Share on X (Opens in new window)\n				X\n			\n				Email a link to a friend (Opens in new window)\n				Email\n			\n				Share on LinkedIn (Opens in new window)\n				LinkedIn\n			\n				Share on Pinterest (Opens in new window)\n				Pinterest\n			\n				Share on Telegram (Opens in new window)\n				Telegram\n			\n				Share on Threads (Opens in new window)\n				Threads\n			\n				Share on WhatsApp (Opens in new window)\n				WhatsApp\n			Like this:Like Loading...
URL:https://desirover.com/event/beautiful-thailand/
LOCATION:Beautiful Thailand\, 3rd Floor\, Lotus Travel Complex\, Sukhumvit Road\, Bangkok\, Bangkok Metropolitan Region\, 10110\, Thailand
CATEGORIES:Adventure Travel,Cultural & Nature Exploration,Group Travel Experience,Road Trip,Senior-Friendly Adventure,Tours
ATTACH;FMTTYPE=image/jpeg:https://desirover.com/wp-content/uploads/2025/06/47dcbf64ee9ceca1652be1d1f0e94b3f.jpg
END:VEVENT
BEGIN:VEVENT
DTSTART;VALUE=DATE:20250619
DTEND;VALUE=DATE:20250701
DTSTAMP:20260421T215922
CREATED:20250612T092949Z
LAST-MODIFIED:20250612T092949Z
UID:28300-1750291200-1751327999@desirover.com
SUMMARY:Simply Kuala Lumpur
DESCRIPTION:Simply Kuala Lumpur offers a perfect blend of modernity and tradition in Malaysia’s vibrant capital.This exciting destination is known for its iconic landmarks\, like the Petronas Twin Towers and Batu Caves.Explore the bustling streets of Bukit Bintang\, where shopping malls\, street food\, and nightlife thrive.Kuala Lumpur offers a rich cultural experience\, with historic sites like the Sultan Abdul Samad Building.Delight in local cuisine\, from Malay nasi lemak to Chinese dim sum and Indian roti canai.Take a stroll in the lush greenery of the KLCC Park or explore the serene Lake Gardens.The city is also home to world-class museums\, art galleries\, and traditional markets.For those seeking adventure\, you can enjoy thrilling activities like skydiving or exploring caves.Kuala Lumpur’s diverse districts offer a unique mix of colonial\, Islamic\, and modern architecture.The city has a vibrant art and music scene\, with festivals\, performances\, and street art around every corner.Perfect for both short getaways and extended stays\, the city offers a range of luxury and budget accommodations.Visitors can easily travel to nearby attractions like Genting Highlands or the Kuala Lumpur is the perfect city for anyone seeking cultural diversity\, adventure. \nFor Enquiry: \n1800 209 3344 \nShare this:Share\n				Share on Facebook (Opens in new window)\n				Facebook\n			\n				Share on X (Opens in new window)\n				X\n			\n				Email a link to a friend (Opens in new window)\n				Email\n			\n				Share on LinkedIn (Opens in new window)\n				LinkedIn\n			\n				Share on Pinterest (Opens in new window)\n				Pinterest\n			\n				Share on Telegram (Opens in new window)\n				Telegram\n			\n				Share on Threads (Opens in new window)\n				Threads\n			\n				Share on WhatsApp (Opens in new window)\n				WhatsApp\n			Like this:Like Loading...
URL:https://desirover.com/event/simply-kuala-lumpur/
LOCATION:Simply Kuala Lumpur\, Tourism Malaysia Headquarters Level 1\, No. 2\, Tower 1\, Jalan P5/6\, Precinct 5\, Federal Government Administrative Centre\, 62200 Putrajaya\, Malaysia\, Kuala Lumpur\, Federal Territory of Kuala Lumpur\, 50050\, Malaysia
CATEGORIES:Adventure Travel,Cultural & Nature Exploration,Road Trip,Tours
ATTACH;FMTTYPE=image/jpeg:https://desirover.com/wp-content/uploads/2025/06/twin.jpg
END:VEVENT
BEGIN:VEVENT
DTSTART;VALUE=DATE:20250619
DTEND;VALUE=DATE:20250701
DTSTAMP:20260421T215922
CREATED:20250612T085031Z
LAST-MODIFIED:20250612T085833Z
UID:28294-1750291200-1751327999@desirover.com
SUMMARY:Thailand - Pattaya And Bangkok - Buy 1 Get 1 Free
DESCRIPTION:Experience the best of Thailand with an exciting Buy 1 Get 1 Free holiday to Pattaya and Bangkok.This special offer combines beachside bliss with vibrant city adventures in one unforgettable trip.Start your journey in Pattaya\, famous for its lively beaches\, coral island tours\, and water sports.Enjoy optional add-ons like Alcazar Cabaret shows\, floating markets\, and cultural temples.Relax at beachfront resorts and indulge in Thai massages\, seafood\, and tropical cocktails.Next\, explore the buzzing capital city of Bangkok\, a mix of tradition and modern glamour.Visit the Grand Palace\, Wat Pho\, and cruise along the Chao Phraya River.Enjoy shopping sprees at MBK\, Siam Paragon\, and local street markets.Savor authentic Thai cuisine from street vendors to rooftop restaurants.Benefit from comfortable hotel stays\, airport transfers\, and guided sightseeing tours.This package is perfect for couples\, friends\, or families seeking value and excitement.Limited-time offer with guaranteed departures and attractive EMI options.Don’t miss out—Thailand awaits with double the joy at half the price! \nFor Enquiry: \n 1800-2099-100  \nShare this:Share\n				Share on Facebook (Opens in new window)\n				Facebook\n			\n				Share on X (Opens in new window)\n				X\n			\n				Email a link to a friend (Opens in new window)\n				Email\n			\n				Share on LinkedIn (Opens in new window)\n				LinkedIn\n			\n				Share on Pinterest (Opens in new window)\n				Pinterest\n			\n				Share on Telegram (Opens in new window)\n				Telegram\n			\n				Share on Threads (Opens in new window)\n				Threads\n			\n				Share on WhatsApp (Opens in new window)\n				WhatsApp\n			Like this:Like Loading...
URL:https://desirover.com/event/thailand-pattaya-and-bangkok-buy-1-get-1-free/
LOCATION:Thomas Cook India\, Marathon Futurex\, A‑Wing\, 11th & 13th Floor N.M. Joshi Marg\, Lower Parel (East) Mumbai\, Maharashtra 400013\, Mumbai\, 400013\, India
CATEGORIES:Adventure Travel,Cultural & Nature Exploration,Road Trip,Tours
ATTACH;FMTTYPE=image/jpeg:https://desirover.com/wp-content/uploads/2025/06/Pattaya150012.jpg
END:VEVENT
BEGIN:VEVENT
DTSTART;VALUE=DATE:20250619
DTEND;VALUE=DATE:20250701
DTSTAMP:20260421T215922
CREATED:20250612T083933Z
LAST-MODIFIED:20250612T090010Z
UID:28286-1750291200-1751327999@desirover.com
SUMMARY:Phuket
DESCRIPTION:Phuket is Thailand’s largest island and a world-famous tropical paradise in the Andaman Sea.Known for its stunning white-sand beaches\, crystal-clear waters\, and vibrant nightlife\, it’s a top global destination.Popular beaches like Patong\, Kata\, and Karon offer a mix of relaxation and water sports.The island is also home to luxurious resorts\, beach clubs\, and traditional Thai hospitality.Beyond the beaches\, Phuket boasts lush rainforests\, waterfalls\, and scenic viewpoints.The Old Town reflects its rich history with Sino-Portuguese architecture and colorful streets.Big Buddha and Wat Chalong are iconic spiritual landmarks that attract pilgrims and tourists alike.Phuket is a gateway to nearby islands like Phi Phi\, James Bond Island\, and Similan Islands.The island offers everything from scuba diving and snorkeling to zip-lining and elephant sanctuaries.Street food markets and seafood restaurants give a taste of authentic Southern Thai cuisine.It’s also a hotspot for festivals\, Muay Thai matches\, and cultural shows.Phuket caters to every type of traveler — from backpackers to luxury seekers.With its unique blend of nature\, culture\, and excitement\, Phuket is truly unforgettable. \nFor Enquiry:\n 1800-2099-100 \nShare this:Share\n				Share on Facebook (Opens in new window)\n				Facebook\n			\n				Share on X (Opens in new window)\n				X\n			\n				Email a link to a friend (Opens in new window)\n				Email\n			\n				Share on LinkedIn (Opens in new window)\n				LinkedIn\n			\n				Share on Pinterest (Opens in new window)\n				Pinterest\n			\n				Share on Telegram (Opens in new window)\n				Telegram\n			\n				Share on Threads (Opens in new window)\n				Threads\n			\n				Share on WhatsApp (Opens in new window)\n				WhatsApp\n			Like this:Like Loading...
URL:https://desirover.com/event/phuket/
LOCATION:Thomas Cook India\, Marathon Futurex\, A‑Wing\, 11th & 13th Floor N.M. Joshi Marg\, Lower Parel (East) Mumbai\, Maharashtra 400013\, Mumbai\, 400013\, India
CATEGORIES:Adventure Travel,Cultural & Nature Exploration,Road Trip,Tours
ATTACH;FMTTYPE=image/jpeg:https://desirover.com/wp-content/uploads/2025/06/85745_paradise_beach_Phuket_Thailand753.jpg
END:VEVENT
BEGIN:VEVENT
DTSTART;VALUE=DATE:20250601
DTEND;VALUE=DATE:20251216
DTSTAMP:20260421T215922
CREATED:20250617T105302Z
LAST-MODIFIED:20250617T105304Z
UID:29610-1748736000-1765843199@desirover.com
SUMMARY:Exotic Bali
DESCRIPTION:Discover the spiritual serenity and tropical beauty of Exotic Bali\, Indonesia’s most beloved island.Begin in Ubud\, the cultural heartland surrounded by lush rice terraces and ancient temples.Marvel at the majestic Tegallalang Rice Fields and sacred Goa Gajah cave.Witness breathtaking sunsets at Tanah Lot and Uluwatu Temple.Relax on the golden beaches of Seminyak and vibrant shores of Kuta.Indulge in a traditional Balinese massage and wellness retreat.Enjoy thrilling adventures like white-water rafting\, ATV rides\, and snorkeling.Explore local crafts\, batik art\, and wood carvings at traditional markets.Visit the enchanting Monkey Forest and sacred Mount Batur.Capture Instagram-worthy moments in Bali Swing and water temples.Savor authentic Balinese cuisine and sunset dinners by the sea.Discover Bali’s blend of Hindu heritage\, friendly locals\, and island magic.Perfect for couples\, families\, and solo wanderers seeking peace and adventure. \nAbout the Trip \nEscape to the tropical paradise of Bali\, where natural beauty meets spiritual serenity. From terraced rice fields and volcanic peaks to cultural dances and relaxing beaches\, this tour offers the perfect balance of relaxation and exploration. \nDuration \n6Days / 7Nights \nTrip Cost \nINR 27\,295/- Per Person(Excluding 5% GST & 5% or 20% TCS\, EMI Option Available) \nTrip Style \nLeisure | Culture | Nature | Semi-Guided Tour \nVehicle \nPrivate AC vehicle with local English-speaking driver/guideAirport pickup/drop and full-day sightseeing transfers included \nDriving Distance \nApprox. 300–400 km total over the trip(Short daily drives between Ubud\, Seminyak\, temples\, and activity locations) \nLandscapes \nRice terraces \nVolcanic mountains (Mount Batur) \nSandy beaches \nCoastal cliffs \nLush jungles and waterfalls \nActivities \nTemple visits (Tanah Lot\, Uluwatu\, Tirta Empul) \nBali Swing photo experience \nATV rides & river rafting (optional) \nMount Batur sunrise trek (optional) \nTraditional Balinese massage & spa \nBeach relaxation and sunset dinners \n\nUpcoming Dates \nJuly 15 – July 20\, 2025 \nAugust 5 – August 10\, 2025 \nSeptember 18 – September 23\, 2025 \nCustom private departures available year-round \nShare this:Share\n				Share on Facebook (Opens in new window)\n				Facebook\n			\n				Share on X (Opens in new window)\n				X\n			\n				Email a link to a friend (Opens in new window)\n				Email\n			\n				Share on LinkedIn (Opens in new window)\n				LinkedIn\n			\n				Share on Pinterest (Opens in new window)\n				Pinterest\n			\n				Share on Telegram (Opens in new window)\n				Telegram\n			\n				Share on Threads (Opens in new window)\n				Threads\n			\n				Share on WhatsApp (Opens in new window)\n				WhatsApp\n			Like this:Like Loading...
URL:https://desirover.com/event/exotic-bali/
LOCATION:Exotic Bali\, 18 Sunset Avenue\, Seminyak\, Denpasar\, Bali\, 80361\, Indonesia
CATEGORIES:Adventure Travel,Cultural & Nature Exploration,Cultural & Spiritual Experience,Group Travel Experience,Road Trip,Tours
ATTACH;FMTTYPE=image/jpeg:https://desirover.com/wp-content/uploads/2025/06/491e05512e1f6d02270371cd88ebd88a.jpg
END:VEVENT
BEGIN:VEVENT
DTSTART;TZID=Asia/Kolkata:20250508T080000
DTEND;TZID=Asia/Kolkata:20250525T210000
DTSTAMP:20260421T215922
CREATED:20250327T145309Z
LAST-MODIFIED:20250331T045446Z
UID:9931-1746691200-1748206800@desirover.com
SUMMARY:Road to Himalayas : Bangalore to Ladakh Road Trip
DESCRIPTION:“Roads To Himalayas” (Season 11) Launch 🚨 Ladakh Expedition 2025 \n🚘 The next season of the most awaited and Biggest Possible Expedition of the country is on now and registration starts in collaboration with @himalayanpanthers_expedition \nFlag off BLR : 8th May 2025 Back to BLR : 28th May 2025 \nIt’s a 21 days road trip (BLR to BLR) covering 14 States and UTs of Incredible India 🇮🇳 Highlights \n💡 – Pune (MH) – ⁠Statue of Unity (GJ) – ⁠Udaipur (RJ) – ⁠Jaipur (RJ) – ⁠Amritsar (PB) – ⁠Srinagar (J&K) – ⁠Kargil (J&K) – ⁠Leh (LA) – ⁠Khardung-La (LA) – ⁠Nubra Valley (LA) – ⁠Pangong TSO (LA) – ⁠Hanley (LA) – ⁠Umling-La (LA) – TSO Moriri (LA) – Puga Hotsprings (LA) – ⁠Sarchu (LA) – ⁠Manali (HP) – ⁠Mathura/ Vrindavan (UP) – ⁠Agra (UP) – ⁠Gwalior (MP) – ⁠Nagpur (MH) – ⁠Hyderabad (TG) – ⁠Bengaluru (KA) \nIt’s a self drive dream road trip of all and one of the most exclusive road trip season of Roy Cruiser known as “Roads To Himalayas” \nBuckle up yourself and get ready for this Biggest possible Expedition of India 🇮🇳 Download the detailed itinerary or call on +91-73584 10784 \nShare this:Share\n				Share on Facebook (Opens in new window)\n				Facebook\n			\n				Share on X (Opens in new window)\n				X\n			\n				Email a link to a friend (Opens in new window)\n				Email\n			\n				Share on LinkedIn (Opens in new window)\n				LinkedIn\n			\n				Share on Pinterest (Opens in new window)\n				Pinterest\n			\n				Share on Telegram (Opens in new window)\n				Telegram\n			\n				Share on Threads (Opens in new window)\n				Threads\n			\n				Share on WhatsApp (Opens in new window)\n				WhatsApp\n			Like this:Like Loading...
URL:https://desirover.com/event/road-to-himalayas-bangalore-to-ladakh-road-trip/
LOCATION:Bangkok Metropolitan Region
CATEGORIES:Road Trip
ATTACH;FMTTYPE=image/jpeg:https://desirover.com/wp-content/uploads/2025/03/RTH-RC25.jpg
ORGANIZER;CN="Roy Cruiser":MAILTO:contact@roycruiser.com
END:VEVENT
END:VCALENDAR