BEGIN:VCALENDAR
VERSION:2.0
PRODID:-//Desi Rover - ECPv6.15.20//NONSGML v1.0//EN
CALSCALE:GREGORIAN
METHOD:PUBLISH
X-WR-CALNAME:Desi Rover
X-ORIGINAL-URL:https://desirover.com
X-WR-CALDESC:Events for Desi Rover
REFRESH-INTERVAL;VALUE=DURATION:PT1H
X-Robots-Tag:noindex
X-PUBLISHED-TTL:PT1H
BEGIN:VTIMEZONE
TZID:Asia/Kolkata
BEGIN:STANDARD
TZOFFSETFROM:+0530
TZOFFSETTO:+0530
TZNAME:IST
DTSTART:20240101T000000
END:STANDARD
END:VTIMEZONE
BEGIN:VEVENT
DTSTART;VALUE=DATE:20250601
DTEND;VALUE=DATE:20251216
DTSTAMP:20260421T110253
CREATED:20250617T105302Z
LAST-MODIFIED:20250617T105304Z
UID:29610-1748736000-1765843199@desirover.com
SUMMARY:Exotic Bali
DESCRIPTION:Discover the spiritual serenity and tropical beauty of Exotic Bali\, Indonesia’s most beloved island.Begin in Ubud\, the cultural heartland surrounded by lush rice terraces and ancient temples.Marvel at the majestic Tegallalang Rice Fields and sacred Goa Gajah cave.Witness breathtaking sunsets at Tanah Lot and Uluwatu Temple.Relax on the golden beaches of Seminyak and vibrant shores of Kuta.Indulge in a traditional Balinese massage and wellness retreat.Enjoy thrilling adventures like white-water rafting\, ATV rides\, and snorkeling.Explore local crafts\, batik art\, and wood carvings at traditional markets.Visit the enchanting Monkey Forest and sacred Mount Batur.Capture Instagram-worthy moments in Bali Swing and water temples.Savor authentic Balinese cuisine and sunset dinners by the sea.Discover Bali’s blend of Hindu heritage\, friendly locals\, and island magic.Perfect for couples\, families\, and solo wanderers seeking peace and adventure. \nAbout the Trip \nEscape to the tropical paradise of Bali\, where natural beauty meets spiritual serenity. From terraced rice fields and volcanic peaks to cultural dances and relaxing beaches\, this tour offers the perfect balance of relaxation and exploration. \nDuration \n6Days / 7Nights \nTrip Cost \nINR 27\,295/- Per Person(Excluding 5% GST & 5% or 20% TCS\, EMI Option Available) \nTrip Style \nLeisure | Culture | Nature | Semi-Guided Tour \nVehicle \nPrivate AC vehicle with local English-speaking driver/guideAirport pickup/drop and full-day sightseeing transfers included \nDriving Distance \nApprox. 300–400 km total over the trip(Short daily drives between Ubud\, Seminyak\, temples\, and activity locations) \nLandscapes \nRice terraces \nVolcanic mountains (Mount Batur) \nSandy beaches \nCoastal cliffs \nLush jungles and waterfalls \nActivities \nTemple visits (Tanah Lot\, Uluwatu\, Tirta Empul) \nBali Swing photo experience \nATV rides & river rafting (optional) \nMount Batur sunrise trek (optional) \nTraditional Balinese massage & spa \nBeach relaxation and sunset dinners \n\nUpcoming Dates \nJuly 15 – July 20\, 2025 \nAugust 5 – August 10\, 2025 \nSeptember 18 – September 23\, 2025 \nCustom private departures available year-round \nShare this:Share\n				Share on Facebook (Opens in new window)\n				Facebook\n			\n				Share on X (Opens in new window)\n				X\n			\n				Email a link to a friend (Opens in new window)\n				Email\n			\n				Share on LinkedIn (Opens in new window)\n				LinkedIn\n			\n				Share on Pinterest (Opens in new window)\n				Pinterest\n			\n				Share on Telegram (Opens in new window)\n				Telegram\n			\n				Share on Threads (Opens in new window)\n				Threads\n			\n				Share on WhatsApp (Opens in new window)\n				WhatsApp\n			Like this:Like Loading...
URL:https://desirover.com/event/exotic-bali/
LOCATION:Exotic Bali\, 18 Sunset Avenue\, Seminyak\, Denpasar\, Bali\, 80361\, Indonesia
CATEGORIES:Adventure Travel,Cultural & Nature Exploration,Cultural & Spiritual Experience,Group Travel Experience,Road Trip,Tours
ATTACH;FMTTYPE=image/jpeg:https://desirover.com/wp-content/uploads/2025/06/491e05512e1f6d02270371cd88ebd88a.jpg
END:VEVENT
BEGIN:VEVENT
DTSTART;VALUE=DATE:20250625
DTEND;VALUE=DATE:20250926
DTSTAMP:20260421T110253
CREATED:20250618T115647Z
LAST-MODIFIED:20250618T115657Z
UID:29868-1750809600-1758844799@desirover.com
SUMMARY:Marvellous Dubai With Abu Dhabi
DESCRIPTION:Marvellous Dubai With Abu Dhabi\nDiscover the dazzling wonders of Dubai and Abu Dhabi with a journey that blends futuristic skylines with rich Arabian heritageMarvel at the Burj Khalifa’s towering views and glide across Dubai Marina on a luxurious cruiseExplore traditional souks bustling malls and dine at world-class restaurantsVenture into the golden desert for dune bashing camel rides and sunset BBQ dinners under the starsExperience thrilling adventures at Ferrari World and Warner Bros in Abu DhabiCapture stunning moments at the Sheikh Zayed Grand Mosque a marvel of Islamic architectureShop at the Dubai Mall visit the Dubai Frame and enjoy spectacular fountain showsEnjoy smooth transfers private sightseeing and premium accommodation throughout your tripPerfect for families honeymooners and anyone looking to blend luxury with excitementThis unforgettable escape is your gateway to the Arabian dream \nDuration:\n7 Days / 6 Nights \nTrip Cost:\nINR 1\,1\,985/-\nPer Person (Including 5% GST & 5% Or 20% TCS\, EMI Option Available) \nTrip Style:\nCity Luxury\, Adventure & Cultural Tour \nVehicle:\nPrivate AC Coach / Transfers with English-speaking Guide \nDriving Distance: ~\n400 km across Dubai and Abu Dhabi \nLandscapes:\nCityscapes\, Desert Dunes\, Coastlines\, Cultural Monuments \nActivities:\nDesert Safari\, City Tours\, Theme Parks\, Shopping\, Marina Cruise \nUpcoming Dates:\nJune 25 – September 31\, 2025 \nShare this:Share\n				Share on Facebook (Opens in new window)\n				Facebook\n			\n				Share on X (Opens in new window)\n				X\n			\n				Email a link to a friend (Opens in new window)\n				Email\n			\n				Share on LinkedIn (Opens in new window)\n				LinkedIn\n			\n				Share on Pinterest (Opens in new window)\n				Pinterest\n			\n				Share on Telegram (Opens in new window)\n				Telegram\n			\n				Share on Threads (Opens in new window)\n				Threads\n			\n				Share on WhatsApp (Opens in new window)\n				WhatsApp\n			Like this:Like Loading...
URL:https://desirover.com/event/marvellous-dubai-with-abu-dhabi/
LOCATION:Marvellous Dubai With Abu Dhabi\, Al Barsha 1\, Near Mall of the Emirates\, Dubai\, Dubai\, 00000\, United Arab Emirates
CATEGORIES:Adventure Travel,Cultural & Nature Exploration,Group Travel Experience,Road Trip,Tours
ATTACH;FMTTYPE=image/jpeg:https://desirover.com/wp-content/uploads/2025/06/d24303c957954f8993d621eaa183ee27.jpg
END:VEVENT
BEGIN:VEVENT
DTSTART;VALUE=DATE:20250627
DTEND;VALUE=DATE:20250927
DTSTAMP:20260421T110253
CREATED:20250617T114240Z
LAST-MODIFIED:20250617T114240Z
UID:29620-1750982400-1758931199@desirover.com
SUMMARY:Awesome Malaysia
DESCRIPTION:Awesome MalaysiaDiscover the vibrant charm of Malaysia\, where modern cities meet lush rainforests and rich cultural heritage. Explore Kuala Lumpur’s iconic skyline\, shop in bustling street markets\, and indulge in world-famous street food. Wander through historic colonial towns\, experience the serenity of Langkawi’s beaches\, and be amazed by the limestone caves of Batu.This journey blends relaxation and adventure\, taking you through tea plantations\, wildlife sanctuaries\, and marine parks. With seamless travel and handpicked accommodations\, enjoy the best of Malaysia with comfort and ease.Whether you’re cruising through the mangroves or climbing highland trails\, this trip is curated to suit all travel moods.Ideal for families\, couples\, and solo explorers alike\, Malaysia promises a multi-sensory experience.With local guides and well-planned itineraries\, you’ll feel connected to the culture and rhythm of the land.Delight in the tropical flavors\, island breezes\, and warm hospitality.Malaysia is more than a destination—it’s a feeling of awe and inspiration that stays with you.Travel through futuristic architecture\, historic heritage\, and untouched nature.Wake up to scenic vistas\, and end your days with magical sunsets.From snorkeling to cultural shows\, every moment is a discovery.Perfect for first-timers and seasoned travelers alike.Let your next adventure begin in this Southeast Asian gem.Book now for a journey that’s as enriching as it is exhilarating. \nDuration:\n6 Nights / 7 Days \nTrip Cost:\nINR 42\,100/- Per Person\n(Excluding 5% GST & 5% or 20% TCS\, EMI Option Available) \nTrip Style:\nLeisure + Adventure \nVehicle:\nPrivate AC Coach / Transfers \nDriving Distance:\nApprox. 400–600 km (total intercity) \nLandscapes:\nBeaches\, Highlands\, Urban Skylines\, Forests \nActivities:\nCity Tours\, Island Hopping\, Cable Car Ride\, Cultural Shows\, Wildlife Safari \nUpcoming Dates:\nJune 24 – June 30\, 2025\nJuly 01- July 31\, 2025\nAugust 01 – August 31\, 2025\nSeptember 01 – September 26\, 2025 \nShare this:Share\n				Share on Facebook (Opens in new window)\n				Facebook\n			\n				Share on X (Opens in new window)\n				X\n			\n				Email a link to a friend (Opens in new window)\n				Email\n			\n				Share on LinkedIn (Opens in new window)\n				LinkedIn\n			\n				Share on Pinterest (Opens in new window)\n				Pinterest\n			\n				Share on Telegram (Opens in new window)\n				Telegram\n			\n				Share on Threads (Opens in new window)\n				Threads\n			\n				Share on WhatsApp (Opens in new window)\n				WhatsApp\n			Like this:Like Loading...
URL:https://desirover.com/event/awesome-malaysia/
LOCATION:Awesome Malaysia\, No. 12\, Jalan Damai\, Off Jalan Ampang\, Kuala Lumpur\, Wilayah Persekutuan\, 50450\, Malaysia
CATEGORIES:Adventure Travel,Cultural & Nature Exploration,Group Travel Experience,Tours
ATTACH;FMTTYPE=image/jpeg:https://desirover.com/wp-content/uploads/2025/06/1fd6fdd47124fe84bb02016ee18db4d5.jpg
END:VEVENT
BEGIN:VEVENT
DTSTART;VALUE=DATE:20250701
DTEND;VALUE=DATE:20250926
DTSTAMP:20260421T110253
CREATED:20250618T111940Z
LAST-MODIFIED:20250618T112337Z
UID:29859-1751328000-1758844799@desirover.com
SUMMARY:Maldives - Reethi Faru Resort
DESCRIPTION:Maldives – Reethi Faru Resort\nStep into paradise at Reethi Faru Resort where turquoise waters meet powdery white sands and luxury greets you at every turn\, Relax in your private overwater or beachfront villa with breathtaking views and direct ocean access\, Savor global cuisines with oceanfront dining and fresh seafood grills under the stars\, Pamper yourself with rejuvenating treatments at the award-winning Coconut Spa amidst lush tropical gardens\, Enjoy water sports like snorkeling jet\, skiing kayaking and diving at the coral-rich house reef\,Unwind by the infinity pool or sip cocktails at the lagoon bar with stunning sunset views\, Take a dolphin cruise island-hopping excursion or simply laze under a swaying palmPerfect for couples honeymooners and anyone looking to disconnect and indulge\, Eco-friendly luxury with a focus on sustainability nature and unmatched hospitality\, Your dream Maldivian escape awaits with sun sea and serenity in every momen.t \nDuration:\n5 Days / 4 Nights \nTrip Cost:\n INR 2\, 07\, 259/-\nPer Person (Excluding 5% GST & 5% Or 20% TCS\, EMI Option Available) \nTrip Style:\nLuxury Beach Resort Getaway \nVehicle:\nSeaplane or Domestic Flight + Speedboat Transfer \nDriving Distance:\nNA (Island Resort) \nLandscapes:\nCoral Reefs\, Turquoise Lagoons\, White-Sand Beaches\, Tropical Flora \nActivities:\nSnorkeling\, Diving\, Spa\, Water Sports\, Sunset Cruises\, Island Hopping \nUpcoming Dates:\nJune 27 – June 30\, 2025\,\nJuly 1 – July 31\, 2025\,\nAugust 1 – August 31\, 2025\nSeptember 1 – September 25\, 2025\, \nShare this:Share\n				Share on Facebook (Opens in new window)\n				Facebook\n			\n				Share on X (Opens in new window)\n				X\n			\n				Email a link to a friend (Opens in new window)\n				Email\n			\n				Share on LinkedIn (Opens in new window)\n				LinkedIn\n			\n				Share on Pinterest (Opens in new window)\n				Pinterest\n			\n				Share on Telegram (Opens in new window)\n				Telegram\n			\n				Share on Threads (Opens in new window)\n				Threads\n			\n				Share on WhatsApp (Opens in new window)\n				WhatsApp\n			Like this:Like Loading...
URL:https://desirover.com/event/maldives-reethi-faru-resort/
LOCATION:Maldives – Reethi Faru Resort\, Reethi Faru Resort\, Raa Atoll\, Filaidhoo\, Atoll\, 05120\, Maldives
CATEGORIES:Adventure Travel,Cultural & Nature Exploration,Road Trip,Tours
ATTACH;FMTTYPE=image/jpeg:https://desirover.com/wp-content/uploads/2025/06/4565802566e85c70a07ae238bbf67d7a.jpg
END:VEVENT
BEGIN:VEVENT
DTSTART;VALUE=DATE:20250709
DTEND;VALUE=DATE:20250731
DTSTAMP:20260421T110253
CREATED:20250617T085446Z
LAST-MODIFIED:20250617T085504Z
UID:29589-1752019200-1753919999@desirover.com
SUMMARY:Europe for All (Zurich to Paris) - Summer 2025
DESCRIPTION:Embark on an unforgettable summer journey from Zurich to Paris\, exploring the heart of Europe.Begin in Switzerland’s cultural capital\, Zurich\, with its lakeside charm and vibrant old town.Marvel at the snow-capped Alps and serene beauty of Lucerne and Mt. Titlis.Cruise along the picturesque Rhine Falls\, Europe’s largest waterfall.Venture into Germany’s Black Forest and capture the essence of scenic villages.Stroll through the romantic streets of Heidelberg\, full of medieval charm.Explore the cultural treasures of Strasbourg\, blending French and German heritage.Delight in scenic drives through the French countryside and vineyards of Alsace.Arrive in the City of Lights – Paris\, bursting with art\, fashion\, and history.Visit iconic landmarks like the Eiffel Tower\, Louvre Museum\, and Notre-Dame.Enjoy a dreamy Seine River cruise and experience Paris by night.Savor authentic French cuisine and shop in world-renowned boutiques.This curated summer adventure promises a perfect blend of nature\, culture\, and elegance. \nShare this:Share\n				Share on Facebook (Opens in new window)\n				Facebook\n			\n				Share on X (Opens in new window)\n				X\n			\n				Email a link to a friend (Opens in new window)\n				Email\n			\n				Share on LinkedIn (Opens in new window)\n				LinkedIn\n			\n				Share on Pinterest (Opens in new window)\n				Pinterest\n			\n				Share on Telegram (Opens in new window)\n				Telegram\n			\n				Share on Threads (Opens in new window)\n				Threads\n			\n				Share on WhatsApp (Opens in new window)\n				WhatsApp\n			Like this:Like Loading...
URL:https://desirover.com/event/europe-for-all-zurich-to-paris-summer-2025/
LOCATION:Europe for All (Zurich to Paris) – Summer 2025\, 25A Global Travel Towers\, MG Road\, Zurich (starting point) / Paris (ending point)\, Zurich Canton\, 8001\, Switzerland
CATEGORIES:Adventure Travel,Cultural & Nature Exploration,Road Trip
ATTACH;FMTTYPE=image/jpeg:https://desirover.com/wp-content/uploads/2025/06/45909_Zurich_Switzerland_1500.jpg
END:VEVENT
END:VCALENDAR